BEGIN:VCALENDAR
VERSION:2.0
PRODID:-//hacksw/handcal//NONSGML v1.0//EN
BEGIN:VEVENT
SUMMARY:Stage David Pierre Louis
UID:45ddb583-af88-4e62-9937-ce703cdc1134
DTSTART:20260429T113000Z
DTEND:20260429T143000Z
LOCATION:Localisation dojo Raymond saque, vallon des sports 1200o rodez
CATEGORIES:Sportif
STATUS:
URL;VALUE=URI:https://jjb12.sportsregions.fr/evenements/2026/04/29/stage-david-pierre-louis-2435802
END:VEVENT
END:VCALENDAR
